BEGIN:VCALENDAR
VERSION:2.0
PRODID:-//Office of Juvenile Justice and Delinquency Prevention//NONSGML Ev
 ent Calendar//EN
BEGIN:VEVENT
UID:b461e2e0-1834-4c3a-a489-a1289c381289
DTSTART;TZID=UTC:20200827T170000
SEQUENCE:0
TRANSP:OPAQUE
DTEND;TZID=UTC:20200827T181500
LOCATION:https://ojjdp.ojp.gov/events/capacity-building-strategies-smaller-
 mentoring-organizations
SUMMARY:Capacity Building Strategies for Smaller Mentoring Organizations
CLASS:PUBLIC
DESCRIPTION:Learn more about this event: https://ojjdp.ojp.gov/events/capac
 ity-building-strategies-smaller-mentoring-organizations
DTSTAMP:20211007T103658Z
END:VEVENT
END:VCALENDAR