BEGIN:VCALENDAR
VERSION:2.0
PRODID:-//Office of Juvenile Justice and Delinquency Prevention//NONSGML Ev
 ent Calendar//EN
BEGIN:VEVENT
UID:e60cc5ed-6ed2-4102-84fa-593f20c33c37
DTSTART;TZID=UTC:20200916T190000
SEQUENCE:0
TRANSP:OPAQUE
DTEND;TZID=UTC:20200916T203000
LOCATION:https://ojjdp.ojp.gov/events/substance-use-issues-juvenile-court-o
 verview-prosecutors-0
SUMMARY: Substance Use Issues in Juvenile Court: An Overview for Prosecutor
 s
CLASS:PUBLIC
DESCRIPTION:Learn more about this event: https://ojjdp.ojp.gov/events/subst
 ance-use-issues-juvenile-court-overview-prosecutors-0
DTSTAMP:20211007T103749Z
END:VEVENT
END:VCALENDAR