BEGIN:VCALENDAR
VERSION:2.0
PRODID:-//Office of Juvenile Justice and Delinquency Prevention//NONSGML Ev
 ent Calendar//EN
BEGIN:VEVENT
UID:73c51908-4d0b-4ea2-8ea2-6e24473e6b46
DTSTART;TZID=UTC:20250923T180000
SEQUENCE:0
TRANSP:OPAQUE
DTEND;TZID=UTC:20250923T193000
LOCATION:https://ojjdp.ojp.gov/events/child-victims-and-child-witnesses-rig
 hts-federal-court
SUMMARY:Child Victims and Child Witnesses' Rights in Federal Court
CLASS:PUBLIC
DESCRIPTION:Learn more about this event: https://ojjdp.ojp.gov/events/child
 -victims-and-child-witnesses-rights-federal-court
DTSTAMP:20260417T184551Z
END:VEVENT
END:VCALENDAR