BEGIN:VCALENDAR
VERSION:2.0
PRODID:-//Office of Juvenile Justice and Delinquency Prevention//NONSGML Ev
 ent Calendar//EN
BEGIN:VEVENT
UID:ce5f095d-d8e4-45c1-8181-88852f0d4410
DTSTART;TZID=UTC:20250910T130000
SEQUENCE:0
TRANSP:OPAQUE
DTEND;TZID=UTC:20250911T220000
LOCATION:https://ojjdp.ojp.gov/events/intermediate-cyber-investigations-dar
 knet-and-darknet-service-investigations
SUMMARY:Intermediate Cyber Investigations: Darknet and Darknet Service Inve
 stigations
CLASS:PUBLIC
DESCRIPTION:Learn more about this event: https://ojjdp.ojp.gov/events/inter
 mediate-cyber-investigations-darknet-and-darknet-service-investigations
DTSTAMP:20260418T065658Z
END:VEVENT
END:VCALENDAR