BEGIN:VCALENDAR
VERSION:2.0
PRODID:-//Office of Juvenile Justice and Delinquency Prevention//NONSGML Ev
 ent Calendar//EN
BEGIN:VEVENT
UID:31ead759-5a1d-43a4-a9b6-1449b3a10cc3
DTSTART;TZID=UTC:20250805T130000
SEQUENCE:0
TRANSP:OPAQUE
DTEND;TZID=UTC:20250806T220000
LOCATION:https://ojjdp.ojp.gov/events/intermediate-digital-forensic-analysi
 s-forensic-video-analysis
SUMMARY:Intermediate Digital Forensic Analysis: Forensic Video Analysis
CLASS:PUBLIC
DESCRIPTION:Learn more about this event: https://ojjdp.ojp.gov/events/inter
 mediate-digital-forensic-analysis-forensic-video-analysis
DTSTAMP:20260418T065658Z
END:VEVENT
END:VCALENDAR