BEGIN:VCALENDAR
VERSION:2.0
PRODID:-//Office of Juvenile Justice and Delinquency Prevention//NONSGML Ev
 ent Calendar//EN
BEGIN:VEVENT
UID:fe87dbd4-1bf3-4ce6-8418-19e38e8416dd
DTSTART;TZID=UTC:20250722T150000
SEQUENCE:0
TRANSP:OPAQUE
DTEND;TZID=UTC:20250722T230000
LOCATION:https://ojjdp.ojp.gov/events/basic-level-spreadsheeting-skills
SUMMARY:Basic Level Spreadsheeting Skills
CLASS:PUBLIC
DESCRIPTION:Learn more about this event: https://ojjdp.ojp.gov/events/basic
 -level-spreadsheeting-skills
DTSTAMP:20260418T065658Z
END:VEVENT
END:VCALENDAR