BEGIN:VCALENDAR
VERSION:2.0
PRODID:-//Office of Juvenile Justice and Delinquency Prevention//NONSGML Ev
 ent Calendar//EN
BEGIN:VEVENT
UID:9a51f55d-8f11-4a10-b67f-078e885b46e9
DTSTART;TZID=UTC:20250721T150000
SEQUENCE:0
TRANSP:OPAQUE
DTEND;TZID=UTC:20250725T000000
LOCATION:https://ojjdp.ojp.gov/events/advanced-digital-forensic-analysis-ma
 cos-2
SUMMARY:Advanced Digital Forensic Analysis: macOS
CLASS:PUBLIC
DESCRIPTION:Learn more about this event: https://ojjdp.ojp.gov/events/advan
 ced-digital-forensic-analysis-macos-2
DTSTAMP:20260418T065658Z
END:VEVENT
END:VCALENDAR