BEGIN:VCALENDAR
VERSION:2.0
PRODID:-//Office of Juvenile Justice and Delinquency Prevention//NONSGML Ev
 ent Calendar//EN
BEGIN:VEVENT
UID:72440df0-d247-4270-a509-f415b91b6a86
DTSTART;TZID=UTC:20250710T170000
SEQUENCE:0
TRANSP:OPAQUE
DTEND;TZID=UTC:20250710T181500
LOCATION:https://ojjdp.ojp.gov/events/alternate-darknets
SUMMARY:The Alternate Darknets
CLASS:PUBLIC
DESCRIPTION:Learn more about this event: https://ojjdp.ojp.gov/events/alter
 nate-darknets
DTSTAMP:20260418T065658Z
END:VEVENT
END:VCALENDAR