BEGIN:VCALENDAR
VERSION:2.0
PRODID:-//Office of Juvenile Justice and Delinquency Prevention//NONSGML Ev
 ent Calendar//EN
BEGIN:VEVENT
UID:5c0aed1f-69d9-46f5-a7b9-cb71b6ca845c
DTSTART;TZID=UTC:20250624T130000
SEQUENCE:0
TRANSP:OPAQUE
DTEND;TZID=UTC:20250624T210000
LOCATION:https://ojjdp.ojp.gov/events/basic-digital-forensic-analysis-seizu
 re
SUMMARY:Basic Digital Forensic Analysis: Seizure
CLASS:PUBLIC
DESCRIPTION:Learn more about this event: https://ojjdp.ojp.gov/events/basic
 -digital-forensic-analysis-seizure
DTSTAMP:20260418T065658Z
END:VEVENT
END:VCALENDAR