BEGIN:VCALENDAR
VERSION:2.0
PRODID:-//Office of Juvenile Justice and Delinquency Prevention//NONSGML Ev
 ent Calendar//EN
BEGIN:VEVENT
UID:ce31e053-67b2-439a-84a0-d792decadbe9
DTSTART;TZID=UTC:20260121T160000
SEQUENCE:0
TRANSP:OPAQUE
DTEND;TZID=UTC:20260123T000000
LOCATION:https://ojjdp.ojp.gov/events/creating-community-action-plan-preven
 tion-child-sexual-abuse-8
SUMMARY:Creating a Community Action Plan for the Prevention of Child Sexual
  Abuse
CLASS:PUBLIC
DESCRIPTION:Learn more about this event: https://ojjdp.ojp.gov/events/creat
 ing-community-action-plan-prevention-child-sexual-abuse-8
DTSTAMP:20260418T065610Z
END:VEVENT
END:VCALENDAR