BEGIN:VCALENDAR
VERSION:2.0
PRODID:-//Office of Juvenile Justice and Delinquency Prevention//NONSGML Ev
 ent Calendar//EN
BEGIN:VEVENT
UID:ad9d2c11-5646-491b-b5b9-f48fa37f9f82
DTSTART;TZID=UTC:20250611T120000
SEQUENCE:0
TRANSP:OPAQUE
DTEND;TZID=UTC:20250612T210000
LOCATION:https://ojjdp.ojp.gov/events/child-sex-trafficking-investigations-
 strategies-increase-prosecutions-traffickers-missing-1
SUMMARY:Child Sex Trafficking Investigations: Strategies to Increase Prosec
 utions of Traffickers of Missing Children
CLASS:PUBLIC
DESCRIPTION:Learn more about this event: https://ojjdp.ojp.gov/events/child
 -sex-trafficking-investigations-strategies-increase-prosecutions-trafficke
 rs-missing-1
DTSTAMP:20260417T185321Z
END:VEVENT
END:VCALENDAR