BEGIN:VCALENDAR
VERSION:2.0
PRODID:-//Office of Juvenile Justice and Delinquency Prevention//NONSGML Ev
 ent Calendar//EN
BEGIN:VEVENT
UID:15466750-a062-4a3b-89c2-bd9abe0e5ab1
DTSTART;TZID=UTC:20250717T130000
SEQUENCE:0
TRANSP:OPAQUE
DTEND;TZID=UTC:20250717T210000
LOCATION:https://ojjdp.ojp.gov/events/child-sex-trafficking-first-responder
 s-3
SUMMARY:Child Sex Trafficking for First Responders
CLASS:PUBLIC
DESCRIPTION:Learn more about this event: https://ojjdp.ojp.gov/events/child
 -sex-trafficking-first-responders-3
DTSTAMP:20260423T023550Z
END:VEVENT
END:VCALENDAR