BEGIN:VCALENDAR
VERSION:2.0
PRODID:-//Office of Juvenile Justice and Delinquency Prevention//NONSGML Ev
 ent Calendar//EN
BEGIN:VEVENT
UID:c2a51e14-1be1-41cd-b627-79262c3d26cf
DTSTART;TZID=UTC:20250313T180000
SEQUENCE:0
TRANSP:OPAQUE
DTEND;TZID=UTC:20250313T190000
LOCATION:https://ojjdp.ojp.gov/events/award-acceptance-weekly-training-webi
 nar-1
SUMMARY:Award Acceptance Weekly Training Webinar
CLASS:PUBLIC
DESCRIPTION:Learn more about this event: https://ojjdp.ojp.gov/events/award
 -acceptance-weekly-training-webinar-1
DTSTAMP:20260423T235017Z
END:VEVENT
END:VCALENDAR