BEGIN:VCALENDAR
VERSION:2.0
PRODID:-//Office of Juvenile Justice and Delinquency Prevention//NONSGML Ev
 ent Calendar//EN
BEGIN:VEVENT
UID:86b9b246-0571-4cce-bcf0-2938efe0b88f
DTSTART;TZID=UTC:20250410T180000
SEQUENCE:0
TRANSP:OPAQUE
DTEND;TZID=UTC:20250410T190000
LOCATION:https://ojjdp.ojp.gov/events/award-acceptance-weekly-training-webi
 nar-2
SUMMARY:Award Acceptance Weekly Training Webinar
CLASS:PUBLIC
DESCRIPTION:Learn more about this event: https://ojjdp.ojp.gov/events/award
 -acceptance-weekly-training-webinar-2
DTSTAMP:20260423T190732Z
END:VEVENT
END:VCALENDAR