BEGIN:VCALENDAR
VERSION:2.0
PRODID:-//Office of Juvenile Justice and Delinquency Prevention//NONSGML Ev
 ent Calendar//EN
BEGIN:VEVENT
UID:8d0bc10a-961a-4155-b360-539966d7b57f
DTSTART;TZID=UTC:20250421T170000
SEQUENCE:0
TRANSP:OPAQUE
DTEND;TZID=UTC:20250421T183000
LOCATION:https://ojjdp.ojp.gov/events/award-management-weekly-training-webi
 nar-4
SUMMARY:Award Management Weekly Training Webinar
CLASS:PUBLIC
DESCRIPTION:Learn more about this event: https://ojjdp.ojp.gov/events/award
 -management-weekly-training-webinar-4
DTSTAMP:20260425T102529Z
END:VEVENT
END:VCALENDAR