BEGIN:VCALENDAR
VERSION:2.0
PRODID:-//Office of Juvenile Justice and Delinquency Prevention//NONSGML Ev
 ent Calendar//EN
BEGIN:VEVENT
UID:b8e0ab50-ec17-417c-bcdd-81043a92dfe4
DTSTART;TZID=UTC:20250402T010000
SEQUENCE:0
TRANSP:OPAQUE
DTEND;TZID=UTC:20250403T213000
LOCATION:https://ojjdp.ojp.gov/events/child-sex-trafficking-forensic-interv
 iew-training-10
SUMMARY:Child Sex Trafficking: Forensic Interview Training
CLASS:PUBLIC
DESCRIPTION:Learn more about this event: https://ojjdp.ojp.gov/events/child
 -sex-trafficking-forensic-interview-training-10
DTSTAMP:20260423T094622Z
END:VEVENT
END:VCALENDAR